BEGIN:VCALENDAR
VERSION:2.0
PRODID:-//Ferienwohnungen in Malterdingen – Urlaub nahe Europa-Park &amp; Schwarzwald - ECPv6.15.20//NONSGML v1.0//EN
CALSCALE:GREGORIAN
METHOD:PUBLISH
X-WR-CALNAME:Ferienwohnungen in Malterdingen – Urlaub nahe Europa-Park &amp; Schwarzwald
X-ORIGINAL-URL:https://malterdingen-ferienwohnung.de
X-WR-CALDESC:Veranstaltungen für Ferienwohnungen in Malterdingen – Urlaub nahe Europa-Park &amp; Schwarzwald
REFRESH-INTERVAL;VALUE=DURATION:PT1H
X-Robots-Tag:noindex
X-PUBLISHED-TTL:PT1H
BEGIN:VTIMEZONE
TZID:UTC
BEGIN:STANDARD
TZOFFSETFROM:+0000
TZOFFSETTO:+0000
TZNAME:UTC
DTSTART:20250101T000000
END:STANDARD
END:VTIMEZONE
BEGIN:VEVENT
DTSTART;TZID=UTC:20261031T160000
DTEND;TZID=UTC:20261101T010000
DTSTAMP:20260423T140543
CREATED:20260423T133318Z
LAST-MODIFIED:20260423T133421Z
UID:2241-1793462400-1793494800@malterdingen-ferienwohnung.de
SUMMARY:Halloween in Malterdingen 2026 – Gruseliges Event bei Aktiva Immobilien
DESCRIPTION:👻 Einleitung\nWenn sich Malterdingen in eine schaurig-schöne Kulisse verwandelt\, ist es wieder soweit:Halloween bei Aktiva Immobilien steht vor der Tür! \nFreue dich auf ein unvergessliches Event voller Überraschungen\, gruseliger Highlights und jeder Menge Spaß für die ganze Familie – nur wenige Minuten vom Europa-Park Rust entfernt. \n\n🕯️ Das erwartet dich\nUnsere Halloween-Veranstaltung ist mittlerweile ein echtes Highlight in Malterdingen und zieht jedes Jahr zahlreiche Besucher an. \n🎃 Gruselige Dekoration & besondere AtmosphäreDas Gelände wird liebevoll und detailreich in eine schaurige Halloween-Welt verwandelt. \n👻 Spaß für Kinder & Familien \n\nSüßes oder Saures\nVerkleidungen ausdrücklich erwünscht\nKleine Überraschungen für unsere Gäste\n\n🔥 Gemütliches BeisammenseinGenieße die besondere Stimmung bei Getränken\, Gesprächen und herbstlicher Atmosphäre. \n\n🏡 Perfekt kombinieren: Halloween & Urlaub\nVerbinde deinen Besuch bei unserem Halloween-Event mit einem entspannten Aufenthalt in unseren Ferienwohnungen in Malterdingen. \n👉 Ideal gelegen zwischen: \n\nSchwarzwald 🌲\nFreiburg 🏙️\nElsass 🇫🇷\nund dem Europa-Park Rust 🎢\n\nNach einem erlebnisreichen Abend kannst du dich in deiner gemütlichen Unterkunft zurückziehen und den Tag entspannt ausklingen lassen. \n\n📍 Veranstaltungsdetails\nOrt: Malterdingen – Aktiva Immobilien / Gästehaus LöwenDatum: jährlich rund um den 31. OktoberUhrzeit: ab Einbruch der Dunkelheit \n(genaue Zeiten werden rechtzeitig bekannt gegeben) \n\n🎯 Für wen ist das Event geeignet?\n\nFamilien mit Kindern 👨‍👩‍👧‍👦\nUrlaubsgäste 🎒\nEinheimische 🏡\nHalloween-Fans 👻\n\n\n🎃 Warum du dabei sein solltest\n\nEinzigartige Atmosphäre in Malterdingen\nPersönlich organisiert von Aktiva Immobilien\nPerfekt für einen besonderen Urlaubsmoment\nKombination aus Event & Erholung
URL:https://malterdingen-ferienwohnung.de/event/halloween-in-malterdingen-2026-gruseliges-event-bei-aktiva-immobilien/
LOCATION:Malterdingen – Gästehaus Löwen\, Hauptstraße 50\, Malterdingen\, Baden-Württemberg\, 79364
ORGANIZER;CN="AKTIVA Immobilien im Breisgau GmbH":MAILTO:info@aktiva-immobilien.de
END:VEVENT
END:VCALENDAR